BEGIN:VCALENDAR
VERSION:2.0
PRODID:-//The Music of Jenny Oag - ECPv5.1.4//NONSGML v1.0//EN
CALSCALE:GREGORIAN
METHOD:PUBLISH
X-WR-CALNAME:The Music of Jenny Oag
X-ORIGINAL-URL:https://jenny-oag.co.uk
X-WR-CALDESC:Events for The Music of Jenny Oag
BEGIN:VTIMEZONE
TZID:UTC
BEGIN:STANDARD
TZOFFSETFROM:+0000
TZOFFSETTO:+0000
TZNAME:UTC
DTSTART:20240101T000000
END:STANDARD
END:VTIMEZONE
BEGIN:VEVENT
DTSTART;TZID=UTC:20241030T200000
DTEND;TZID=UTC:20241030T220000
DTSTAMP:20260425T104513
CREATED:20240918T101555Z
LAST-MODIFIED:20240918T101555Z
UID:5975-1730318400-1730325600@jenny-oag.co.uk
SUMMARY:Royal Bath Hotel
DESCRIPTION:
URL:https://jenny-oag.co.uk/event/royal-bath-hotel-37/
LOCATION:Royal Bath Hotel Bournemouth
END:VEVENT
BEGIN:VEVENT
DTSTART;TZID=UTC:20241031T183000
DTEND;TZID=UTC:20241031T203000
DTSTAMP:20260425T104513
CREATED:20240708T114502Z
LAST-MODIFIED:20240708T114502Z
UID:5914-1730399400-1730406600@jenny-oag.co.uk
SUMMARY:The Oaks Highcliffe
DESCRIPTION:
URL:https://jenny-oag.co.uk/event/the-oaks-highcliffe-2/
LOCATION:The Oaks 189 Lymington Rd\, Highcliffe\, Christchurch BH23 5EA
END:VEVENT
BEGIN:VEVENT
DTSTART;TZID=UTC:20241101T203000
DTEND;TZID=UTC:20241101T223000
DTSTAMP:20260425T104513
CREATED:20240105T161407Z
LAST-MODIFIED:20240105T161407Z
UID:5622-1730493000-1730500200@jenny-oag.co.uk
SUMMARY:Court Royal Hotel - Private
DESCRIPTION:
URL:https://jenny-oag.co.uk/event/court-royal-hotel-private-20/
END:VEVENT
BEGIN:VEVENT
DTSTART;TZID=UTC:20241103T163000
DTEND;TZID=UTC:20241103T180000
DTSTAMP:20260425T104513
CREATED:20240402T195028Z
LAST-MODIFIED:20240402T195028Z
UID:5814-1730651400-1730656800@jenny-oag.co.uk
SUMMARY:The Farmers\, Lancing
DESCRIPTION:
URL:https://jenny-oag.co.uk/event/the-farmers-lancing/
LOCATION:The Farmers\, 17 South Street\, Lancing\, West Sussex\, BN15 8AE
END:VEVENT
BEGIN:VEVENT
DTSTART;TZID=UTC:20241104T200000
DTEND;TZID=UTC:20241104T220000
DTSTAMP:20260425T104513
CREATED:20240214T170437Z
LAST-MODIFIED:20240214T170437Z
UID:5726-1730750400-1730757600@jenny-oag.co.uk
SUMMARY:Royal Bath Hotel
DESCRIPTION:
URL:https://jenny-oag.co.uk/event/royal-bath-hotel-34/
END:VEVENT
BEGIN:VEVENT
DTSTART;TZID=UTC:20241108T203000
DTEND;TZID=UTC:20241108T223000
DTSTAMP:20260425T104513
CREATED:20240916T131339Z
LAST-MODIFIED:20240916T131339Z
UID:5967-1731097800-1731105000@jenny-oag.co.uk
SUMMARY:The King’s Head Thatham
DESCRIPTION:
URL:https://jenny-oag.co.uk/event/the-kings-head-thatham-2/
LOCATION:The Kings Head 59 The Broadway\, Thatcham RG19 3HP
END:VEVENT
BEGIN:VEVENT
DTSTART;TZID=UTC:20241110T203000
DTEND;TZID=UTC:20241110T223000
DTSTAMP:20260425T104513
CREATED:20240105T161437Z
LAST-MODIFIED:20240105T161437Z
UID:5624-1731270600-1731277800@jenny-oag.co.uk
SUMMARY:Court Royal Hotel - Private
DESCRIPTION:
URL:https://jenny-oag.co.uk/event/court-royal-hotel-private-21/
END:VEVENT
BEGIN:VEVENT
DTSTART;TZID=UTC:20241114T200000
DTEND;TZID=UTC:20241114T220000
DTSTAMP:20260425T104513
CREATED:20240926T130433Z
LAST-MODIFIED:20240926T130433Z
UID:5998-1731614400-1731621600@jenny-oag.co.uk
SUMMARY:Royal Bath Hotel
DESCRIPTION:
URL:https://jenny-oag.co.uk/event/royal-bath-hotel-42/
LOCATION:Royal Bath Hotel Bournemouth
END:VEVENT
BEGIN:VEVENT
DTSTART;TZID=UTC:20241116T200000
DTEND;TZID=UTC:20241116T220000
DTSTAMP:20260425T104513
CREATED:20231116T191729Z
LAST-MODIFIED:20231116T191729Z
UID:5545-1731787200-1731794400@jenny-oag.co.uk
SUMMARY:The Wheatsheaf Pub
DESCRIPTION:
URL:https://jenny-oag.co.uk/event/the-wheatsheaf-pub-2/
LOCATION:the Wheatshef Pub\, Christchurch Rd\, New Milton\, BH25 6QJ
END:VEVENT
BEGIN:VEVENT
DTSTART;TZID=UTC:20241117T173000
DTEND;TZID=UTC:20241117T200000
DTSTAMP:20260425T104513
CREATED:20240708T114705Z
LAST-MODIFIED:20240708T114705Z
UID:5919-1731864600-1731873600@jenny-oag.co.uk
SUMMARY:The Glencoe
DESCRIPTION:
URL:https://jenny-oag.co.uk/event/the-glencoe/
LOCATION:The Glencoe\, 62 San Diego Road\, Gosport\, Hampshire\, PO12 4QT
END:VEVENT
BEGIN:VEVENT
DTSTART;TZID=UTC:20241120T200000
DTEND;TZID=UTC:20241120T220000
DTSTAMP:20260425T104513
CREATED:20240918T101626Z
LAST-MODIFIED:20240918T101626Z
UID:5977-1732132800-1732140000@jenny-oag.co.uk
SUMMARY:Royal Bath Hotel
DESCRIPTION:
URL:https://jenny-oag.co.uk/event/royal-bath-hotel-38/
LOCATION:Royal Bath Hotel Bournemouth
END:VEVENT
BEGIN:VEVENT
DTSTART;TZID=UTC:20241122T203000
DTEND;TZID=UTC:20241122T223000
DTSTAMP:20260425T104513
CREATED:20240105T161505Z
LAST-MODIFIED:20240105T161505Z
UID:5626-1732307400-1732314600@jenny-oag.co.uk
SUMMARY:Court Royal Hotel - Private
DESCRIPTION:
URL:https://jenny-oag.co.uk/event/court-royal-hotel-private-22/
END:VEVENT
BEGIN:VEVENT
DTSTART;TZID=UTC:20241123T200000
DTEND;TZID=UTC:20241123T230000
DTSTAMP:20260425T104513
CREATED:20240427T152834Z
LAST-MODIFIED:20240427T152834Z
UID:5848-1732392000-1732402800@jenny-oag.co.uk
SUMMARY:The Wishing Well
DESCRIPTION:
URL:https://jenny-oag.co.uk/event/the-wishing-well/
LOCATION:The Wishing Well\, 280 Oxford Road\, Reading\, Berkshire\, RG30 1AD
END:VEVENT
BEGIN:VEVENT
DTSTART;TZID=UTC:20241125T193000
DTEND;TZID=UTC:20241125T213000
DTSTAMP:20260425T104513
CREATED:20241015T080702Z
LAST-MODIFIED:20241015T080702Z
UID:6037-1732563000-1732570200@jenny-oag.co.uk
SUMMARY:Marsham Court Hotel
DESCRIPTION:
URL:https://jenny-oag.co.uk/event/marsham-court-hotel-6/
LOCATION:Marsham Court Hotel 3 Russell Cotes Rd\, East Cliff\, Bournemouth BH1 3AB
END:VEVENT
BEGIN:VEVENT
DTSTART;TZID=UTC:20241129T200000
DTEND;TZID=UTC:20241129T220000
DTSTAMP:20260425T104513
CREATED:20240930T130105Z
LAST-MODIFIED:20240930T130105Z
UID:6008-1732910400-1732917600@jenny-oag.co.uk
SUMMARY:The Westgate
DESCRIPTION:
URL:https://jenny-oag.co.uk/event/the-westgate/
LOCATION:The Westgate 2 Romsey Road\, Winchester\, Hampshire\, SO23 8TP
END:VEVENT
END:VCALENDAR