BEGIN:VCALENDAR
VERSION:2.0
PRODID:-//The Music of Jenny Oag - ECPv5.1.4//NONSGML v1.0//EN
CALSCALE:GREGORIAN
METHOD:PUBLISH
X-WR-CALNAME:The Music of Jenny Oag
X-ORIGINAL-URL:https://jenny-oag.co.uk
X-WR-CALDESC:Events for The Music of Jenny Oag
BEGIN:VTIMEZONE
TZID:UTC
BEGIN:STANDARD
TZOFFSETFROM:+0000
TZOFFSETTO:+0000
TZNAME:UTC
DTSTART:20240101T000000
END:STANDARD
END:VTIMEZONE
BEGIN:VEVENT
DTSTART;TZID=UTC:20241125T193000
DTEND;TZID=UTC:20241125T213000
DTSTAMP:20260421T223928
CREATED:20241015T080702Z
LAST-MODIFIED:20241015T080702Z
UID:6037-1732563000-1732570200@jenny-oag.co.uk
SUMMARY:Marsham Court Hotel
DESCRIPTION:
URL:https://jenny-oag.co.uk/event/marsham-court-hotel-6/
LOCATION:Marsham Court Hotel 3 Russell Cotes Rd\, East Cliff\, Bournemouth BH1 3AB
END:VEVENT
BEGIN:VEVENT
DTSTART;TZID=UTC:20241129T200000
DTEND;TZID=UTC:20241129T220000
DTSTAMP:20260421T223928
CREATED:20240930T130105Z
LAST-MODIFIED:20240930T130105Z
UID:6008-1732910400-1732917600@jenny-oag.co.uk
SUMMARY:The Westgate
DESCRIPTION:
URL:https://jenny-oag.co.uk/event/the-westgate/
LOCATION:The Westgate 2 Romsey Road\, Winchester\, Hampshire\, SO23 8TP
END:VEVENT
BEGIN:VEVENT
DTSTART;TZID=UTC:20241201T203000
DTEND;TZID=UTC:20241201T223000
DTSTAMP:20260421T223928
CREATED:20240105T161531Z
LAST-MODIFIED:20240105T161531Z
UID:5628-1733085000-1733092200@jenny-oag.co.uk
SUMMARY:Court Royal Hotel - Private
DESCRIPTION:
URL:https://jenny-oag.co.uk/event/court-royal-hotel-private-23/
END:VEVENT
BEGIN:VEVENT
DTSTART;TZID=UTC:20241203T200000
DTEND;TZID=UTC:20241203T220000
DTSTAMP:20260421T223928
CREATED:20241114T123401Z
LAST-MODIFIED:20241114T123401Z
UID:6063-1733256000-1733263200@jenny-oag.co.uk
SUMMARY:Royal Bath Hotel
DESCRIPTION:
URL:https://jenny-oag.co.uk/event/royal-bath-hotel-43/
LOCATION:Royal Bath Hotel Bournemouth
END:VEVENT
BEGIN:VEVENT
DTSTART;TZID=UTC:20241205T200000
DTEND;TZID=UTC:20241205T220000
DTSTAMP:20260421T223928
CREATED:20240726T140552Z
LAST-MODIFIED:20240726T140552Z
UID:5926-1733428800-1733436000@jenny-oag.co.uk
SUMMARY:Carrington Hotel
DESCRIPTION:
URL:https://jenny-oag.co.uk/event/carrington-hotel-51/
END:VEVENT
BEGIN:VEVENT
DTSTART;TZID=UTC:20241206T200000
DTEND;TZID=UTC:20241206T230000
DTSTAMP:20260421T223928
CREATED:20240224T010001Z
LAST-MODIFIED:20240224T010001Z
UID:5747-1733515200-1733526000@jenny-oag.co.uk
SUMMARY:6 Barrels
DESCRIPTION:
URL:https://jenny-oag.co.uk/event/6-barrels-5/
LOCATION:6 Barrels 31 Salisbury Rd\, Totton\, Southampton SO40 3HX
END:VEVENT
BEGIN:VEVENT
DTSTART;TZID=UTC:20241207T203000
DTEND;TZID=UTC:20241207T223000
DTSTAMP:20260421T223928
CREATED:20240202T164551Z
LAST-MODIFIED:20240202T164551Z
UID:5676-1733603400-1733610600@jenny-oag.co.uk
SUMMARY:Wallisdown Con Club
DESCRIPTION:
URL:https://jenny-oag.co.uk/event/wallisdown-con-club/
LOCATION:Wallisdown Con Club\, 8 Canford Gardens\, Canford Rd\, Bournemouth BH11 8SA
END:VEVENT
BEGIN:VEVENT
DTSTART;TZID=UTC:20241208T173000
DTEND;TZID=UTC:20241208T193000
DTSTAMP:20260421T223928
CREATED:20240404T141721Z
LAST-MODIFIED:20240404T141721Z
UID:5820-1733679000-1733686200@jenny-oag.co.uk
SUMMARY:The Anchor Inn
DESCRIPTION:
URL:https://jenny-oag.co.uk/event/the-anchor-inn-2/
LOCATION:46 High Street\, Storrington\, West Sussex\, RH20 4DU
END:VEVENT
BEGIN:VEVENT
DTSTART;TZID=UTC:20241209T200000
DTEND;TZID=UTC:20241209T220000
DTSTAMP:20260421T223928
CREATED:20240918T101651Z
LAST-MODIFIED:20240918T101651Z
UID:5979-1733774400-1733781600@jenny-oag.co.uk
SUMMARY:Royal Bath Hotel
DESCRIPTION:
URL:https://jenny-oag.co.uk/event/royal-bath-hotel-39/
LOCATION:Royal Bath Hotel Bournemouth
END:VEVENT
BEGIN:VEVENT
DTSTART;TZID=UTC:20241212T203000
DTEND;TZID=UTC:20241212T223000
DTSTAMP:20260421T223928
CREATED:20240916T131434Z
LAST-MODIFIED:20240916T131434Z
UID:5971-1734035400-1734042600@jenny-oag.co.uk
SUMMARY:The King’s Head Thatham
DESCRIPTION:
URL:https://jenny-oag.co.uk/event/the-kings-head-thatham-4/
LOCATION:The Kings Head 59 The Broadway\, Thatcham RG19 3HP
END:VEVENT
BEGIN:VEVENT
DTSTART;TZID=UTC:20241213T203000
DTEND;TZID=UTC:20241213T223000
DTSTAMP:20260421T223928
CREATED:20240105T161619Z
LAST-MODIFIED:20240105T161619Z
UID:5630-1734121800-1734129000@jenny-oag.co.uk
SUMMARY:Court Royal Hotel - Private
DESCRIPTION:
URL:https://jenny-oag.co.uk/event/court-royal-hotel-private-24/
END:VEVENT
BEGIN:VEVENT
DTSTART;TZID=UTC:20241214T190000
DTEND;TZID=UTC:20241214T210000
DTSTAMP:20260421T223928
CREATED:20240708T114541Z
LAST-MODIFIED:20240708T114541Z
UID:5917-1734202800-1734210000@jenny-oag.co.uk
SUMMARY:The Oaks Highcliffe
DESCRIPTION:
URL:https://jenny-oag.co.uk/event/the-oaks-highcliffe-3/
LOCATION:The Oaks 189 Lymington Rd\, Highcliffe\, Christchurch BH23 5EA
END:VEVENT
BEGIN:VEVENT
DTSTART;TZID=UTC:20241220T160000
DTEND;TZID=UTC:20241220T180000
DTSTAMP:20260421T223928
CREATED:20240519T211618Z
LAST-MODIFIED:20240519T211618Z
UID:5884-1734710400-1734717600@jenny-oag.co.uk
SUMMARY:The Stags Head
DESCRIPTION:
URL:https://jenny-oag.co.uk/event/the-stags-head/
LOCATION:The Stags Head\, The Square\, Westbourne\, Emsworth\, Hampshire\, PO10 8UE
END:VEVENT
BEGIN:VEVENT
DTSTART;TZID=UTC:20241221T190000
DTEND;TZID=UTC:20241221T210000
DTSTAMP:20260421T223928
CREATED:20240820T143331Z
LAST-MODIFIED:20240820T143331Z
UID:5940-1734807600-1734814800@jenny-oag.co.uk
SUMMARY:The Roebuck Winchester
DESCRIPTION:
URL:https://jenny-oag.co.uk/event/the-roebuck-winchester-4/
LOCATION:The Roebuck\, 57 Stockbridge Rd\, Winchester SO22 6RP
END:VEVENT
BEGIN:VEVENT
DTSTART;TZID=UTC:20241224T193000
DTEND;TZID=UTC:20241224T213000
DTSTAMP:20260421T223928
CREATED:20240202T165030Z
LAST-MODIFIED:20240202T165030Z
UID:5681-1735068600-1735075800@jenny-oag.co.uk
SUMMARY:Marsham Court Hotel
DESCRIPTION:
URL:https://jenny-oag.co.uk/event/marsham-court-hotel-4/
LOCATION:Marsham Court Hotel 3 Russell Cotes Rd\, East Cliff\, Bournemouth BH1 3AB
END:VEVENT
BEGIN:VEVENT
DTSTART;TZID=UTC:20241226T130000
DTEND;TZID=UTC:20241226T160000
DTSTAMP:20260421T223928
CREATED:20241209T105117Z
LAST-MODIFIED:20241209T105117Z
UID:6108-1735218000-1735228800@jenny-oag.co.uk
SUMMARY:Romsey RBL
DESCRIPTION:
URL:https://jenny-oag.co.uk/event/romsey-rbl-3/
LOCATION:Romsey RBL\, Shean House\, Love Lane\, SO51 8DE
END:VEVENT
BEGIN:VEVENT
DTSTART;TZID=UTC:20241227T200000
DTEND;TZID=UTC:20241227T220000
DTSTAMP:20260421T223928
CREATED:20240819T160208Z
LAST-MODIFIED:20240819T160208Z
UID:5934-1735329600-1735336800@jenny-oag.co.uk
SUMMARY:The Fox & Pelican
DESCRIPTION:
URL:https://jenny-oag.co.uk/event/the-fox-pelican/
LOCATION:The Fox & Pelican\, Hindhead\, Headley Rd\, Grayshott\, Hindhead\, GU26 6LG
END:VEVENT
BEGIN:VEVENT
DTSTART;TZID=UTC:20241231T210000
DTEND;TZID=UTC:20250101T003000
DTSTAMP:20260421T223928
CREATED:20240103T105700Z
LAST-MODIFIED:20240103T105700Z
UID:5575-1735678800-1735691400@jenny-oag.co.uk
SUMMARY:Crookham Street Social Club
DESCRIPTION:
URL:https://jenny-oag.co.uk/event/crookham-street-social-club-2/
LOCATION:Crookham Street Social Club\,\, The Street\, Church Crookham\, Fleet\,\, GU51 5SJ
END:VEVENT
BEGIN:VEVENT
DTSTART;TZID=UTC:20250104T200000
DTEND;TZID=UTC:20250104T220000
DTSTAMP:20260421T223928
CREATED:20241106T152816Z
LAST-MODIFIED:20241106T152816Z
UID:6055-1736020800-1736028000@jenny-oag.co.uk
SUMMARY:The Grenadier
DESCRIPTION:
URL:https://jenny-oag.co.uk/event/the-grenadier/
LOCATION:The Grenadier\, 200 Hangleton Road\, Brighton and Hove\, Hove\, East Sussex\, BN3 7LT
END:VEVENT
END:VCALENDAR