BEGIN:VCALENDAR
VERSION:2.0
PRODID:-//The Music of Jenny Oag - ECPv5.1.4//NONSGML v1.0//EN
CALSCALE:GREGORIAN
METHOD:PUBLISH
X-WR-CALNAME:The Music of Jenny Oag
X-ORIGINAL-URL:https://jenny-oag.co.uk
X-WR-CALDESC:Events for The Music of Jenny Oag
BEGIN:VTIMEZONE
TZID:UTC
BEGIN:STANDARD
TZOFFSETFROM:+0000
TZOFFSETTO:+0000
TZNAME:UTC
DTSTART:20250101T000000
END:STANDARD
END:VTIMEZONE
BEGIN:VEVENT
DTSTART;VALUE=DATE:20250130
DTEND;VALUE=DATE:20250131
DTSTAMP:20260421T190702
CREATED:20250117T104938Z
LAST-MODIFIED:20250117T104938Z
UID:6141-1738195200-1738281599@jenny-oag.co.uk
SUMMARY:Court Royal Hotel ( Private Event )
DESCRIPTION:
URL:https://jenny-oag.co.uk/event/court-royal-hotel-private-event-25/
END:VEVENT
BEGIN:VEVENT
DTSTART;TZID=UTC:20250131T203000
DTEND;TZID=UTC:20250131T223000
DTSTAMP:20260421T190702
CREATED:20241115T101751Z
LAST-MODIFIED:20241115T101751Z
UID:6065-1738355400-1738362600@jenny-oag.co.uk
SUMMARY:Kings Head Thatham
DESCRIPTION:
URL:https://jenny-oag.co.uk/event/kings-head-thatham-2/
LOCATION:The Kings Head 59 The Broadway\, Thatcham RG19 3HP
END:VEVENT
BEGIN:VEVENT
DTSTART;TZID=UTC:20250201T200000
DTEND;TZID=UTC:20250201T220000
DTSTAMP:20260421T190702
CREATED:20240814T145606Z
LAST-MODIFIED:20240814T145606Z
UID:5929-1738440000-1738447200@jenny-oag.co.uk
SUMMARY:The Painters Arms
DESCRIPTION:
URL:https://jenny-oag.co.uk/event/the-painters-arms-2/
LOCATION:The Painters Arms\, 18 Lake Road\, Portsmouth\, Hampshire\, PO1 4HA
END:VEVENT
BEGIN:VEVENT
DTSTART;TZID=UTC:20250202T140000
DTEND;TZID=UTC:20250202T170000
DTSTAMP:20260421T190702
CREATED:20241013T181606Z
LAST-MODIFIED:20241013T181606Z
UID:6031-1738504800-1738515600@jenny-oag.co.uk
SUMMARY:Alderney Manor Social Club
DESCRIPTION:
URL:https://jenny-oag.co.uk/event/alderney-manor-social-club-3/
LOCATION:Alderney Manor Social Club 287 Herbert Avenue Poole BH12 4HT
END:VEVENT
BEGIN:VEVENT
DTSTART;VALUE=DATE:20250206
DTEND;VALUE=DATE:20250207
DTSTAMP:20260421T190702
CREATED:20250117T105007Z
LAST-MODIFIED:20250117T105007Z
UID:6143-1738800000-1738886399@jenny-oag.co.uk
SUMMARY:Court Royal Hotel ( Private Event )
DESCRIPTION:
URL:https://jenny-oag.co.uk/event/court-royal-hotel-private-event-26/
END:VEVENT
BEGIN:VEVENT
DTSTART;TZID=UTC:20250208T203000
DTEND;TZID=UTC:20250208T233000
DTSTAMP:20260421T190702
CREATED:20240621T144505Z
LAST-MODIFIED:20240621T144505Z
UID:5903-1739046600-1739057400@jenny-oag.co.uk
SUMMARY:Riverside Club
DESCRIPTION:
URL:https://jenny-oag.co.uk/event/riverside-club-2/
LOCATION:Riverside Club Legion Hall\, St Mary St\, High Wycombe HP11 2HE
END:VEVENT
BEGIN:VEVENT
DTSTART;TZID=UTC:20250214T200000
DTEND;TZID=UTC:20250214T220000
DTSTAMP:20260421T190702
CREATED:20241106T160546Z
LAST-MODIFIED:20241106T160546Z
UID:6059-1739563200-1739570400@jenny-oag.co.uk
SUMMARY:The Grenadier
DESCRIPTION:
URL:https://jenny-oag.co.uk/event/the-grenadier-3/
LOCATION:The Grenadier\, 200 Hangleton Road\, Brighton and Hove\, Hove\, East Sussex\, BN3 7LT
END:VEVENT
BEGIN:VEVENT
DTSTART;TZID=UTC:20250215T203000
DTEND;TZID=UTC:20250215T223000
DTSTAMP:20260421T190702
CREATED:20241115T101831Z
LAST-MODIFIED:20241115T101831Z
UID:6067-1739651400-1739658600@jenny-oag.co.uk
SUMMARY:Kings Head Thatham
DESCRIPTION:
URL:https://jenny-oag.co.uk/event/kings-head-thatham-3/
LOCATION:The Kings Head 59 The Broadway\, Thatcham RG19 3HP
END:VEVENT
BEGIN:VEVENT
DTSTART;VALUE=DATE:20250216
DTEND;VALUE=DATE:20250217
DTSTAMP:20260421T190702
CREATED:20250117T105235Z
LAST-MODIFIED:20250117T105235Z
UID:6157-1739664000-1739750399@jenny-oag.co.uk
SUMMARY:Court Royal Hotel ( Private Event )
DESCRIPTION:
URL:https://jenny-oag.co.uk/event/court-royal-hotel-private-event-33/
END:VEVENT
BEGIN:VEVENT
DTSTART;VALUE=DATE:20250220
DTEND;VALUE=DATE:20250221
DTSTAMP:20260421T190702
CREATED:20250117T105037Z
LAST-MODIFIED:20250117T105037Z
UID:6145-1740009600-1740095999@jenny-oag.co.uk
SUMMARY:Court Royal Hotel ( Private Event )
DESCRIPTION:
URL:https://jenny-oag.co.uk/event/court-royal-hotel-private-event-27/
END:VEVENT
BEGIN:VEVENT
DTSTART;TZID=UTC:20250221T210000
DTEND;TZID=UTC:20250221T230000
DTSTAMP:20260421T190702
CREATED:20250210T190507Z
LAST-MODIFIED:20250210T190507Z
UID:6254-1740171600-1740178800@jenny-oag.co.uk
SUMMARY:The Fountain\, Portsmouth
DESCRIPTION:
URL:https://jenny-oag.co.uk/event/the-fountain-portsmouth/
LOCATION:The Fountain\, 163 London Road\, North End\, Portsmouth\, PO2 9AA
END:VEVENT
BEGIN:VEVENT
DTSTART;VALUE=DATE:20250222
DTEND;VALUE=DATE:20250223
DTSTAMP:20260421T190702
CREATED:20241007T082146Z
LAST-MODIFIED:20241007T082146Z
UID:6014-1740182400-1740268799@jenny-oag.co.uk
SUMMARY:Private Event
DESCRIPTION:
URL:https://jenny-oag.co.uk/event/private-event-17/
END:VEVENT
BEGIN:VEVENT
DTSTART;TZID=UTC:20250227T200000
DTEND;TZID=UTC:20250227T220000
DTSTAMP:20260421T190702
CREATED:20241119T150056Z
LAST-MODIFIED:20241119T150056Z
UID:6079-1740686400-1740693600@jenny-oag.co.uk
SUMMARY:Royal Bath Hotel
DESCRIPTION:
URL:https://jenny-oag.co.uk/event/royal-bath-hotel-47/
LOCATION:Royal Bath Hotel Bournemouth
END:VEVENT
BEGIN:VEVENT
DTSTART;TZID=UTC:20250301T200000
DTEND;TZID=UTC:20250301T220000
DTSTAMP:20260421T190702
CREATED:20240814T145640Z
LAST-MODIFIED:20240814T145640Z
UID:5931-1740859200-1740866400@jenny-oag.co.uk
SUMMARY:The Painters Arms
DESCRIPTION:
URL:https://jenny-oag.co.uk/event/the-painters-arms-3/
LOCATION:The Painters Arms\, 18 Lake Road\, Portsmouth\, Hampshire\, PO1 4HA
END:VEVENT
END:VCALENDAR