BEGIN:VCALENDAR
VERSION:2.0
PRODID:-//The Music of Jenny Oag - ECPv5.1.4//NONSGML v1.0//EN
CALSCALE:GREGORIAN
METHOD:PUBLISH
X-WR-CALNAME:The Music of Jenny Oag
X-ORIGINAL-URL:https://jenny-oag.co.uk
X-WR-CALDESC:Events for The Music of Jenny Oag
BEGIN:VTIMEZONE
TZID:UTC
BEGIN:STANDARD
TZOFFSETFROM:+0000
TZOFFSETTO:+0000
TZNAME:UTC
DTSTART:20250101T000000
END:STANDARD
END:VTIMEZONE
BEGIN:VEVENT
DTSTART;TZID=UTC:20250227T200000
DTEND;TZID=UTC:20250227T220000
DTSTAMP:20260421T173306
CREATED:20241119T150056Z
LAST-MODIFIED:20241119T150056Z
UID:6079-1740686400-1740693600@jenny-oag.co.uk
SUMMARY:Royal Bath Hotel
DESCRIPTION:
URL:https://jenny-oag.co.uk/event/royal-bath-hotel-47/
LOCATION:Royal Bath Hotel Bournemouth
END:VEVENT
BEGIN:VEVENT
DTSTART;TZID=UTC:20250301T200000
DTEND;TZID=UTC:20250301T220000
DTSTAMP:20260421T173306
CREATED:20240814T145640Z
LAST-MODIFIED:20240814T145640Z
UID:5931-1740859200-1740866400@jenny-oag.co.uk
SUMMARY:The Painters Arms
DESCRIPTION:
URL:https://jenny-oag.co.uk/event/the-painters-arms-3/
LOCATION:The Painters Arms\, 18 Lake Road\, Portsmouth\, Hampshire\, PO1 4HA
END:VEVENT
BEGIN:VEVENT
DTSTART;TZID=UTC:20250303T200000
DTEND;TZID=UTC:20250303T220000
DTSTAMP:20260421T173306
CREATED:20250220T170559Z
LAST-MODIFIED:20250220T170559Z
UID:6278-1741032000-1741039200@jenny-oag.co.uk
SUMMARY:Carrington Hotel
DESCRIPTION:
URL:https://jenny-oag.co.uk/event/carrington-hotel-52/
END:VEVENT
BEGIN:VEVENT
DTSTART;VALUE=DATE:20250306
DTEND;VALUE=DATE:20250307
DTSTAMP:20260421T173306
CREATED:20250117T105055Z
LAST-MODIFIED:20250117T105055Z
UID:6147-1741219200-1741305599@jenny-oag.co.uk
SUMMARY:Court Royal Hotel ( Private Event )
DESCRIPTION:
URL:https://jenny-oag.co.uk/event/court-royal-hotel-private-event-28/
END:VEVENT
BEGIN:VEVENT
DTSTART;TZID=UTC:20250307T203000
DTEND;TZID=UTC:20250307T230000
DTSTAMP:20260421T173306
CREATED:20241210T200324Z
LAST-MODIFIED:20250107T082229Z
UID:6110-1741379400-1741388400@jenny-oag.co.uk
SUMMARY:The Butchers Arms
DESCRIPTION:
URL:https://jenny-oag.co.uk/event/the-butchers-arms/
LOCATION:The Butchers Arms\, 13 Hendford\, Yeovil BA20 1TQ
END:VEVENT
BEGIN:VEVENT
DTSTART;TZID=UTC:20250308T203000
DTEND;TZID=UTC:20250308T223000
DTSTAMP:20260421T173306
CREATED:20250106T142812Z
LAST-MODIFIED:20250106T142812Z
UID:6125-1741465800-1741473000@jenny-oag.co.uk
SUMMARY:Kings Head
DESCRIPTION:
URL:https://jenny-oag.co.uk/event/kings-head-2/
LOCATION:The Kings Head 59 The Broadway\, Thatcham RG19 3HP
END:VEVENT
BEGIN:VEVENT
DTSTART;VALUE=DATE:20250313
DTEND;VALUE=DATE:20250314
DTSTAMP:20260421T173306
CREATED:20250117T105113Z
LAST-MODIFIED:20250117T105113Z
UID:6149-1741824000-1741910399@jenny-oag.co.uk
SUMMARY:Court Royal Hotel ( Private Event )
DESCRIPTION:
URL:https://jenny-oag.co.uk/event/court-royal-hotel-private-event-29/
END:VEVENT
BEGIN:VEVENT
DTSTART;TZID=UTC:20250315T200000
DTEND;TZID=UTC:20250315T220000
DTSTAMP:20260421T173306
CREATED:20241106T153338Z
LAST-MODIFIED:20241106T153338Z
UID:6057-1742068800-1742076000@jenny-oag.co.uk
SUMMARY:The Grenadier
DESCRIPTION:
URL:https://jenny-oag.co.uk/event/the-grenadier-2/
LOCATION:The Grenadier\, 200 Hangleton Road\, Brighton and Hove\, Hove\, East Sussex\, BN3 7LT
END:VEVENT
BEGIN:VEVENT
DTSTART;TZID=UTC:20250317T200000
DTEND;TZID=UTC:20250317T220000
DTSTAMP:20260421T173306
CREATED:20241119T150119Z
LAST-MODIFIED:20241119T150119Z
UID:6082-1742241600-1742248800@jenny-oag.co.uk
SUMMARY:Royal Bath Hotel
DESCRIPTION:
URL:https://jenny-oag.co.uk/event/royal-bath-hotel-48/
LOCATION:Royal Bath Hotel Bournemouth
END:VEVENT
BEGIN:VEVENT
DTSTART;VALUE=DATE:20250320
DTEND;VALUE=DATE:20250321
DTSTAMP:20260421T173306
CREATED:20250117T105129Z
LAST-MODIFIED:20250117T105129Z
UID:6151-1742428800-1742515199@jenny-oag.co.uk
SUMMARY:Court Royal Hotel ( Private Event )
DESCRIPTION:
URL:https://jenny-oag.co.uk/event/court-royal-hotel-private-event-30/
END:VEVENT
BEGIN:VEVENT
DTSTART;TZID=UTC:20250321T210000
DTEND;TZID=UTC:20250321T233000
DTSTAMP:20260421T173306
CREATED:20250111T153014Z
LAST-MODIFIED:20250111T153014Z
UID:6129-1742590800-1742599800@jenny-oag.co.uk
SUMMARY:Southampton Arms Andover
DESCRIPTION:
URL:https://jenny-oag.co.uk/event/southampton-arms-andover/
LOCATION:Southampton Arms 32 Winchester St\, Andover SP10 2EG
END:VEVENT
BEGIN:VEVENT
DTSTART;TZID=UTC:20250322T200000
DTEND;TZID=UTC:20250322T230000
DTSTAMP:20260421T173306
CREATED:20250116T193219Z
LAST-MODIFIED:20250116T193219Z
UID:6139-1742673600-1742684400@jenny-oag.co.uk
SUMMARY:6 Barrels Totton
DESCRIPTION:
URL:https://jenny-oag.co.uk/event/6-barrels-totton/
LOCATION:6 Barrels 31 Salisbury Rd\, Totton\, Southampton SO40 3HX
END:VEVENT
BEGIN:VEVENT
DTSTART;TZID=UTC:20250325T200000
DTEND;TZID=UTC:20250325T220000
DTSTAMP:20260421T173306
CREATED:20250220T170831Z
LAST-MODIFIED:20250220T170831Z
UID:6280-1742932800-1742940000@jenny-oag.co.uk
SUMMARY:Carrington Hotel
DESCRIPTION:
URL:https://jenny-oag.co.uk/event/carrington-hotel-53/
END:VEVENT
BEGIN:VEVENT
DTSTART;VALUE=DATE:20250327
DTEND;VALUE=DATE:20250328
DTSTAMP:20260421T173306
CREATED:20250117T105218Z
LAST-MODIFIED:20250117T105218Z
UID:6155-1743033600-1743119999@jenny-oag.co.uk
SUMMARY:Court Royal Hotel ( Private Event )
DESCRIPTION:
URL:https://jenny-oag.co.uk/event/court-royal-hotel-private-event-32/
END:VEVENT
BEGIN:VEVENT
DTSTART;TZID=UTC:20250328T200000
DTEND;TZID=UTC:20250328T220000
DTSTAMP:20260421T173306
CREATED:20240916T075258Z
LAST-MODIFIED:20240916T075258Z
UID:5960-1743192000-1743199200@jenny-oag.co.uk
SUMMARY:The Stags Head
DESCRIPTION:
URL:https://jenny-oag.co.uk/event/the-stags-head-2/
LOCATION:The Stags Head\, The Square\, Westbourne\, Emsworth\, Hampshire\, PO10 8UE
END:VEVENT
BEGIN:VEVENT
DTSTART;TZID=UTC:20250329T193000
DTEND;TZID=UTC:20250329T213000
DTSTAMP:20260421T173306
CREATED:20241029T101542Z
LAST-MODIFIED:20241029T101542Z
UID:6044-1743276600-1743283800@jenny-oag.co.uk
SUMMARY:Marsham Court Hotel
DESCRIPTION:
URL:https://jenny-oag.co.uk/event/marsham-court-hotel-7/
LOCATION:Marsham Court Hotel 3 Russell Cotes Rd\, East Cliff\, Bournemouth BH1 3AB
END:VEVENT
BEGIN:VEVENT
DTSTART;TZID=UTC:20250403T210000
DTEND;TZID=UTC:20250403T220000
DTSTAMP:20260421T173306
CREATED:20250123T110505Z
LAST-MODIFIED:20250123T110505Z
UID:6167-1743714000-1743717600@jenny-oag.co.uk
SUMMARY:Weymouth Bay Haven Holidays
DESCRIPTION:
URL:https://jenny-oag.co.uk/event/weymouth-bay-haven-holidays-5/
END:VEVENT
BEGIN:VEVENT
DTSTART;TZID=UTC:20250404T210000
DTEND;TZID=UTC:20250404T230000
DTSTAMP:20260421T173306
CREATED:20241010T202202Z
LAST-MODIFIED:20241010T202202Z
UID:6027-1743800400-1743807600@jenny-oag.co.uk
SUMMARY:The Railway Lancing
DESCRIPTION:
URL:https://jenny-oag.co.uk/event/the-railway-lancing-2/
LOCATION:Railway Lancing 1 North Rd\, Lancing BN15 9AH
END:VEVENT
BEGIN:VEVENT
DTSTART;TZID=UTC:20250405T200000
DTEND;TZID=UTC:20250405T220000
DTSTAMP:20260421T173306
CREATED:20241118T131910Z
LAST-MODIFIED:20241118T131910Z
UID:6071-1743883200-1743890400@jenny-oag.co.uk
SUMMARY:Durdle Door Holiday Park
DESCRIPTION:
URL:https://jenny-oag.co.uk/event/durdle-door-holiday-park-2/
LOCATION:Man O’ War Bar\, Durdle Door Holiday Park\, Main Rd\, BH20 5PU
END:VEVENT
END:VCALENDAR