BEGIN:VCALENDAR
VERSION:2.0
PRODID:-//The Music of Jenny Oag - ECPv5.1.4//NONSGML v1.0//EN
CALSCALE:GREGORIAN
METHOD:PUBLISH
X-WR-CALNAME:The Music of Jenny Oag
X-ORIGINAL-URL:https://jenny-oag.co.uk
X-WR-CALDESC:Events for The Music of Jenny Oag
BEGIN:VTIMEZONE
TZID:UTC
BEGIN:STANDARD
TZOFFSETFROM:+0000
TZOFFSETTO:+0000
TZNAME:UTC
DTSTART:20250101T000000
END:STANDARD
END:VTIMEZONE
BEGIN:VEVENT
DTSTART;TZID=UTC:20250701T200000
DTEND;TZID=UTC:20250701T220000
DTSTAMP:20260421T103108
CREATED:20250524T125310Z
LAST-MODIFIED:20250524T125310Z
UID:6349-1751400000-1751407200@jenny-oag.co.uk
SUMMARY:Carrington Hotel
DESCRIPTION:
URL:https://jenny-oag.co.uk/event/carrington-hotel-57/
END:VEVENT
BEGIN:VEVENT
DTSTART;TZID=UTC:20250703T190000
DTEND;TZID=UTC:20250703T210000
DTSTAMP:20260421T103108
CREATED:20250109T202810Z
LAST-MODIFIED:20250109T202810Z
UID:6127-1751569200-1751576400@jenny-oag.co.uk
SUMMARY:The Roebuck Winchester
DESCRIPTION:
URL:https://jenny-oag.co.uk/event/the-roebuck-winchester-6/
LOCATION:The Roebuck\, 57 Stockbridge Rd\, Winchester SO22 6RP
END:VEVENT
BEGIN:VEVENT
DTSTART;TZID=UTC:20250705T203000
DTEND;TZID=UTC:20250705T223000
DTSTAMP:20260421T103108
CREATED:20250421T170416Z
LAST-MODIFIED:20250421T170416Z
UID:6318-1751747400-1751754600@jenny-oag.co.uk
SUMMARY:Kings Head Thatcham
DESCRIPTION:
URL:https://jenny-oag.co.uk/event/kings-head-thatcham-2/
LOCATION:The Kings Head 59 The Broadway\, Thatcham RG19 3HP
END:VEVENT
BEGIN:VEVENT
DTSTART;VALUE=DATE:20250706
DTEND;VALUE=DATE:20250707
DTSTAMP:20260421T103108
CREATED:20250127T111841Z
LAST-MODIFIED:20250127T111841Z
UID:6195-1751760000-1751846399@jenny-oag.co.uk
SUMMARY:Court Royal ( Private Event)
DESCRIPTION:
URL:https://jenny-oag.co.uk/event/court-royal-private-event-18/
END:VEVENT
BEGIN:VEVENT
DTSTART;VALUE=DATE:20250711
DTEND;VALUE=DATE:20250712
DTSTAMP:20260421T103108
CREATED:20250127T111908Z
LAST-MODIFIED:20250127T111908Z
UID:6197-1752192000-1752278399@jenny-oag.co.uk
SUMMARY:Court Royal ( Private Event)
DESCRIPTION:
URL:https://jenny-oag.co.uk/event/court-royal-private-event-19/
END:VEVENT
BEGIN:VEVENT
DTSTART;TZID=UTC:20250718T203000
DTEND;TZID=UTC:20250718T223000
DTSTAMP:20260421T103108
CREATED:20250201T104829Z
LAST-MODIFIED:20250201T104829Z
UID:6242-1752870600-1752877800@jenny-oag.co.uk
SUMMARY:Anchor & Hope Salisbury
DESCRIPTION:
URL:https://jenny-oag.co.uk/event/anchor-hope-salisbury-3/
LOCATION:Anchor & Hope 59-61 Winchester Street Salisbury SP1 1HL
END:VEVENT
BEGIN:VEVENT
DTSTART;TZID=UTC:20250719T210000
DTEND;TZID=UTC:20250719T233000
DTSTAMP:20260421T103108
CREATED:20250313T154447Z
LAST-MODIFIED:20250313T154447Z
UID:6287-1752958800-1752967800@jenny-oag.co.uk
SUMMARY:Southampton Arms Andover
DESCRIPTION:
URL:https://jenny-oag.co.uk/event/southampton-arms-andover-3/
LOCATION:Southampton Arms 32 Winchester St\, Andover SP10 2EG
END:VEVENT
BEGIN:VEVENT
DTSTART;VALUE=DATE:20250720
DTEND;VALUE=DATE:20250721
DTSTAMP:20260421T103108
CREATED:20250127T111945Z
LAST-MODIFIED:20250127T111945Z
UID:6199-1752969600-1753055999@jenny-oag.co.uk
SUMMARY:Court Royal ( Private Event)
DESCRIPTION:
URL:https://jenny-oag.co.uk/event/court-royal-private-event-20/
END:VEVENT
BEGIN:VEVENT
DTSTART;TZID=UTC:20250724T200000
DTEND;TZID=UTC:20250724T220000
DTSTAMP:20260421T103108
CREATED:20250524T125337Z
LAST-MODIFIED:20250524T125337Z
UID:6351-1753387200-1753394400@jenny-oag.co.uk
SUMMARY:Carrington Hotel
DESCRIPTION:
URL:https://jenny-oag.co.uk/event/carrington-hotel-58/
END:VEVENT
BEGIN:VEVENT
DTSTART;TZID=UTC:20250725T210000
DTEND;TZID=UTC:20250725T230000
DTSTAMP:20260421T103108
CREATED:20241010T202233Z
LAST-MODIFIED:20241010T202233Z
UID:6029-1753477200-1753484400@jenny-oag.co.uk
SUMMARY:The Railway Lancing
DESCRIPTION:
URL:https://jenny-oag.co.uk/event/the-railway-lancing-3/
LOCATION:Railway Lancing 1 North Rd\, Lancing BN15 9AH
END:VEVENT
BEGIN:VEVENT
DTSTART;TZID=UTC:20250726T143000
DTEND;TZID=UTC:20250726T153000
DTSTAMP:20260421T103108
CREATED:20250211T100355Z
LAST-MODIFIED:20250211T100355Z
UID:6257-1753540200-1753543800@jenny-oag.co.uk
SUMMARY:Kingfishers Care Home
DESCRIPTION:
URL:https://jenny-oag.co.uk/event/kingfishers-care-home/
LOCATION:The Meadows  New Milton BH25 7FJ
END:VEVENT
BEGIN:VEVENT
DTSTART;TZID=UTC:20250726T200000
DTEND;TZID=UTC:20250726T220000
DTSTAMP:20260421T103108
CREATED:20250619T130342Z
LAST-MODIFIED:20250619T130342Z
UID:6375-1753560000-1753567200@jenny-oag.co.uk
SUMMARY:The Grendier Hove
DESCRIPTION:
URL:https://jenny-oag.co.uk/event/the-grendier-hove/
LOCATION:The Grenadier\, 200 Hangleton Road\, Brighton and Hove\, Hove\, East Sussex\, BN3 7LT
END:VEVENT
BEGIN:VEVENT
DTSTART;VALUE=DATE:20250727
DTEND;VALUE=DATE:20250728
DTSTAMP:20260421T103108
CREATED:20250127T112011Z
LAST-MODIFIED:20250127T112011Z
UID:6201-1753574400-1753660799@jenny-oag.co.uk
SUMMARY:Court Royal ( Private Event)
DESCRIPTION:
URL:https://jenny-oag.co.uk/event/court-royal-private-event-21/
END:VEVENT
BEGIN:VEVENT
DTSTART;TZID=UTC:20250728T200000
DTEND;TZID=UTC:20250728T220000
DTSTAMP:20260421T103108
CREATED:20250328T102300Z
LAST-MODIFIED:20250328T102300Z
UID:6304-1753732800-1753740000@jenny-oag.co.uk
SUMMARY:Royal Bath Hotel
DESCRIPTION:
URL:https://jenny-oag.co.uk/event/royal-bath-hotel-45/
LOCATION:Royal Bath Hotel Bournemouth
END:VEVENT
BEGIN:VEVENT
DTSTART;TZID=UTC:20250801T203000
DTEND;TZID=UTC:20250801T223000
DTSTAMP:20260421T103108
CREATED:20250129T163346Z
LAST-MODIFIED:20250129T163346Z
UID:6235-1754080200-1754087400@jenny-oag.co.uk
SUMMARY:The Avocet Poole
DESCRIPTION:
URL:https://jenny-oag.co.uk/event/the-avocet-poole-9/
LOCATION:The Avocet Poole 58 Station Rd\, Parkstone\, Poole BH14 8UD
END:VEVENT
BEGIN:VEVENT
DTSTART;TZID=UTC:20250801T203000
DTEND;TZID=UTC:20250801T223000
DTSTAMP:20260421T103108
CREATED:20250714T194559Z
LAST-MODIFIED:20250714T194559Z
UID:6402-1754080200-1754087400@jenny-oag.co.uk
SUMMARY:The Peacock Farm\, Bracknell
DESCRIPTION:
URL:https://jenny-oag.co.uk/event/the-peacock-farm-bracknell/
LOCATION:The Peacock Farm\, Peacock Ln\, Bracknell RG12 8SS
END:VEVENT
BEGIN:VEVENT
DTSTART;TZID=UTC:20250802T210000
DTEND;TZID=UTC:20250802T230000
DTSTAMP:20260421T103108
CREATED:20241009T085024Z
LAST-MODIFIED:20241009T085024Z
UID:6024-1754168400-1754175600@jenny-oag.co.uk
SUMMARY:Swanage Con Club
DESCRIPTION:
URL:https://jenny-oag.co.uk/event/swanage-con-club-10/
LOCATION:Swanage Con Club 27 Kings Rd W\, Swanage BH19 1HE
END:VEVENT
END:VCALENDAR