BEGIN:VCALENDAR
VERSION:2.0
PRODID:-//The Music of Jenny Oag - ECPv5.1.4//NONSGML v1.0//EN
CALSCALE:GREGORIAN
METHOD:PUBLISH
X-WR-CALNAME:The Music of Jenny Oag
X-ORIGINAL-URL:https://jenny-oag.co.uk
X-WR-CALDESC:Events for The Music of Jenny Oag
BEGIN:VTIMEZONE
TZID:UTC
BEGIN:STANDARD
TZOFFSETFROM:+0000
TZOFFSETTO:+0000
TZNAME:UTC
DTSTART:20250101T000000
END:STANDARD
END:VTIMEZONE
BEGIN:VEVENT
DTSTART;VALUE=DATE:20251028
DTEND;VALUE=DATE:20251029
DTSTAMP:20260421T024838
CREATED:20250327T131409Z
LAST-MODIFIED:20250327T131409Z
UID:6298-1761609600-1761695999@jenny-oag.co.uk
SUMMARY:Private Event
DESCRIPTION:
URL:https://jenny-oag.co.uk/event/private-event-20/
END:VEVENT
BEGIN:VEVENT
DTSTART;TZID=UTC:20251030T200000
DTEND;TZID=UTC:20251030T220000
DTSTAMP:20260421T024838
CREATED:20250902T144141Z
LAST-MODIFIED:20250902T144141Z
UID:6425-1761854400-1761861600@jenny-oag.co.uk
SUMMARY:Carrington Hotel
DESCRIPTION:
URL:https://jenny-oag.co.uk/event/carrington-hotel-60/
LOCATION:Carrington House Hotel\, Knyveton Road\, Bournemouth\, BH1 3QQ\, United Kingdom
END:VEVENT
BEGIN:VEVENT
DTSTART;TZID=UTC:20251031T190000
DTEND;TZID=UTC:20251031T210000
DTSTAMP:20260421T024838
CREATED:20250703T232031Z
LAST-MODIFIED:20250703T232031Z
UID:6394-1761937200-1761944400@jenny-oag.co.uk
SUMMARY:The Roebuck Winchester
DESCRIPTION:
URL:https://jenny-oag.co.uk/event/the-roebuck-winchester-8/
LOCATION:The Roebuck\, 57 Stockbridge Rd\, Winchester SO22 6RP
END:VEVENT
BEGIN:VEVENT
DTSTART;TZID=UTC:20251101T203000
DTEND;TZID=UTC:20251101T223000
DTSTAMP:20260421T024838
CREATED:20250423T122953Z
LAST-MODIFIED:20250423T122953Z
UID:6328-1762029000-1762036200@jenny-oag.co.uk
SUMMARY:The Anchor Inn
DESCRIPTION:
URL:https://jenny-oag.co.uk/event/the-anchor-inn-5/
LOCATION:The Anchor\, 46 High Street\, Storrington\, RH20 4DU
END:VEVENT
BEGIN:VEVENT
DTSTART;VALUE=DATE:20251102
DTEND;VALUE=DATE:20251103
DTSTAMP:20260421T024838
CREATED:20250127T112601Z
LAST-MODIFIED:20250127T112601Z
UID:6219-1762041600-1762127999@jenny-oag.co.uk
SUMMARY:Court Royal ( Private Event)
DESCRIPTION:
URL:https://jenny-oag.co.uk/event/court-royal-private-event-30/
END:VEVENT
BEGIN:VEVENT
DTSTART;TZID=UTC:20251107T200000
DTEND;TZID=UTC:20251107T220000
DTSTAMP:20260421T024838
CREATED:20250502T080856Z
LAST-MODIFIED:20250502T080856Z
UID:6335-1762545600-1762552800@jenny-oag.co.uk
SUMMARY:The Stags Head
DESCRIPTION:
URL:https://jenny-oag.co.uk/event/the-stags-head-3/
LOCATION:The Stags Head\, The Square\, Westbourne\, Emsworth\, Hampshire\, PO10 8UE
END:VEVENT
BEGIN:VEVENT
DTSTART;TZID=UTC:20251108T200000
DTEND;TZID=UTC:20251108T230000
DTSTAMP:20260421T024838
CREATED:20250402T145915Z
LAST-MODIFIED:20250402T145915Z
UID:6307-1762632000-1762642800@jenny-oag.co.uk
SUMMARY:6 Barrels
DESCRIPTION:
URL:https://jenny-oag.co.uk/event/6-barrels-6/
LOCATION:6 Barrels 31 Salisbury Rd\, Totton\, Southampton SO40 3HX
END:VEVENT
BEGIN:VEVENT
DTSTART;VALUE=DATE:20251109
DTEND;VALUE=DATE:20251110
DTSTAMP:20260421T024838
CREATED:20250127T112622Z
LAST-MODIFIED:20250127T112622Z
UID:6221-1762646400-1762732799@jenny-oag.co.uk
SUMMARY:Court Royal ( Private Event)
DESCRIPTION:
URL:https://jenny-oag.co.uk/event/court-royal-private-event-31/
END:VEVENT
BEGIN:VEVENT
DTSTART;VALUE=DATE:20251112
DTEND;VALUE=DATE:20251113
DTSTAMP:20260421T024838
CREATED:20250127T112649Z
LAST-MODIFIED:20251013T083553Z
UID:6223-1762905600-1762991999@jenny-oag.co.uk
SUMMARY:Court Royal ( Private Event)
DESCRIPTION:
URL:https://jenny-oag.co.uk/event/court-royal-private-event-32/
END:VEVENT
BEGIN:VEVENT
DTSTART;TZID=UTC:20251115T203000
DTEND;TZID=UTC:20251115T223000
DTSTAMP:20260421T024838
CREATED:20241016T102238Z
LAST-MODIFIED:20241016T102238Z
UID:6039-1763238600-1763245800@jenny-oag.co.uk
SUMMARY:Sandford Labour Club
DESCRIPTION:
URL:https://jenny-oag.co.uk/event/sandford-labour-club-2/
LOCATION:Keysworth Dr\, Sandford\, Wareham BH20 7BD
END:VEVENT
BEGIN:VEVENT
DTSTART;TZID=UTC:20251127T190000
DTEND;TZID=UTC:20251127T210000
DTSTAMP:20260421T024838
CREATED:20250611T083712Z
LAST-MODIFIED:20250611T083712Z
UID:6359-1764270000-1764277200@jenny-oag.co.uk
SUMMARY:Marsham Court Hotel
DESCRIPTION:
URL:https://jenny-oag.co.uk/event/marsham-court-hotel-9/
LOCATION:Marsham Court Hotel 3 Russell Cotes Rd\, East Cliff\, Bournemouth BH1 3AB
END:VEVENT
BEGIN:VEVENT
DTSTART;VALUE=DATE:20251128
DTEND;VALUE=DATE:20251129
DTSTAMP:20260421T024838
CREATED:20250127T112719Z
LAST-MODIFIED:20250127T112719Z
UID:6225-1764288000-1764374399@jenny-oag.co.uk
SUMMARY:Court Royal ( Private Event)
DESCRIPTION:
URL:https://jenny-oag.co.uk/event/court-royal-private-event-33/
END:VEVENT
BEGIN:VEVENT
DTSTART;TZID=UTC:20251129T203000
DTEND;TZID=UTC:20251129T223000
DTSTAMP:20260421T024838
CREATED:20250714T175243Z
LAST-MODIFIED:20250714T175243Z
UID:6400-1764448200-1764455400@jenny-oag.co.uk
SUMMARY:The Ship Christchurch
DESCRIPTION:
URL:https://jenny-oag.co.uk/event/the-ship-christchurch-2/
LOCATION:The Ship 48 High St\, Christchurch BH23 1BN
END:VEVENT
END:VCALENDAR