BEGIN:VCALENDAR
VERSION:2.0
PRODID:-//The Music of Jenny Oag - ECPv5.1.4//NONSGML v1.0//EN
CALSCALE:GREGORIAN
METHOD:PUBLISH
X-WR-CALNAME:The Music of Jenny Oag
X-ORIGINAL-URL:https://jenny-oag.co.uk
X-WR-CALDESC:Events for The Music of Jenny Oag
BEGIN:VTIMEZONE
TZID:UTC
BEGIN:STANDARD
TZOFFSETFROM:+0000
TZOFFSETTO:+0000
TZNAME:UTC
DTSTART:20250101T000000
END:STANDARD
END:VTIMEZONE
BEGIN:VEVENT
DTSTART;TZID=UTC:20251203T200000
DTEND;TZID=UTC:20251203T220000
DTSTAMP:20260421T004449
CREATED:20250902T144209Z
LAST-MODIFIED:20250902T144209Z
UID:6427-1764792000-1764799200@jenny-oag.co.uk
SUMMARY:Carrington Hotel
DESCRIPTION:
URL:https://jenny-oag.co.uk/event/carrington-hotel-61/
LOCATION:Carrington House Hotel\, Knyveton Road\, Bournemouth\, BH1 3QQ\, United Kingdom
END:VEVENT
BEGIN:VEVENT
DTSTART;TZID=UTC:20251204T203000
DTEND;TZID=UTC:20251204T223000
DTSTAMP:20260421T004449
CREATED:20251020T115336Z
LAST-MODIFIED:20251020T115336Z
UID:6477-1764880200-1764887400@jenny-oag.co.uk
SUMMARY:Kings Head Thatcham
DESCRIPTION:
URL:https://jenny-oag.co.uk/event/kings-head-thatcham-6/
LOCATION:The Kings Head 59 The Broadway\, Thatcham RG19 3HP
END:VEVENT
BEGIN:VEVENT
DTSTART;TZID=UTC:20251205T200000
DTEND;TZID=UTC:20251205T220000
DTSTAMP:20260421T004449
CREATED:20250729T110925Z
LAST-MODIFIED:20250729T110925Z
UID:6405-1764964800-1764972000@jenny-oag.co.uk
SUMMARY:Nutley Farm
DESCRIPTION:
URL:https://jenny-oag.co.uk/event/nutley-farm-2/
LOCATION:Nutley Farm Dorchester DT2 8DT
END:VEVENT
BEGIN:VEVENT
DTSTART;VALUE=DATE:20251207
DTEND;VALUE=DATE:20251208
DTSTAMP:20260421T004449
CREATED:20250127T112740Z
LAST-MODIFIED:20250127T112740Z
UID:6227-1765065600-1765151999@jenny-oag.co.uk
SUMMARY:Court Royal ( Private Event)
DESCRIPTION:
URL:https://jenny-oag.co.uk/event/court-royal-private-event-34/
END:VEVENT
BEGIN:VEVENT
DTSTART;TZID=UTC:20251211T170000
DTEND;TZID=UTC:20251211T180000
DTSTAMP:20260421T004449
CREATED:20251006T204245Z
LAST-MODIFIED:20251006T204245Z
UID:6464-1765472400-1765476000@jenny-oag.co.uk
SUMMARY:Kingfisher Care Home
DESCRIPTION:
URL:https://jenny-oag.co.uk/event/kingfisher-care-home/
END:VEVENT
BEGIN:VEVENT
DTSTART;TZID=UTC:20251211T200000
DTEND;TZID=UTC:20251211T220000
DTSTAMP:20260421T004449
CREATED:20250916T080744Z
LAST-MODIFIED:20250916T080744Z
UID:6460-1765483200-1765490400@jenny-oag.co.uk
SUMMARY:Royal Bath Hotel
DESCRIPTION:
URL:https://jenny-oag.co.uk/event/royal-bath-hotel-54/
LOCATION:Royal Bath Hotel Bournemouth
END:VEVENT
BEGIN:VEVENT
DTSTART;VALUE=DATE:20251212
DTEND;VALUE=DATE:20251213
DTSTAMP:20260421T004449
CREATED:20250127T112816Z
LAST-MODIFIED:20250127T112816Z
UID:6229-1765497600-1765583999@jenny-oag.co.uk
SUMMARY:Court Royal ( Private Event)
DESCRIPTION:
URL:https://jenny-oag.co.uk/event/court-royal-private-event-35/
END:VEVENT
BEGIN:VEVENT
DTSTART;VALUE=DATE:20251217
DTEND;VALUE=DATE:20251218
DTSTAMP:20260421T004449
CREATED:20250127T112842Z
LAST-MODIFIED:20250127T112842Z
UID:6231-1765929600-1766015999@jenny-oag.co.uk
SUMMARY:Court Royal ( Private Event)
DESCRIPTION:
URL:https://jenny-oag.co.uk/event/court-royal-private-event-36/
END:VEVENT
BEGIN:VEVENT
DTSTART;TZID=UTC:20251218T193000
DTEND;TZID=UTC:20251218T213000
DTSTAMP:20260421T004449
CREATED:20250829T125717Z
LAST-MODIFIED:20250829T125717Z
UID:6414-1766086200-1766093400@jenny-oag.co.uk
SUMMARY:Beaulieu Hotel\, Drift Bar
DESCRIPTION:
URL:https://jenny-oag.co.uk/event/beaulieu-hotel-drift-bar/
END:VEVENT
BEGIN:VEVENT
DTSTART;TZID=UTC:20251219T143000
DTEND;TZID=UTC:20251219T153000
DTSTAMP:20260421T004449
CREATED:20251209T193134Z
LAST-MODIFIED:20251209T193134Z
UID:6521-1766154600-1766158200@jenny-oag.co.uk
SUMMARY:The Gables Care Home
DESCRIPTION:
URL:https://jenny-oag.co.uk/event/the-gables-care-home/
END:VEVENT
BEGIN:VEVENT
DTSTART;TZID=UTC:20251219T200000
DTEND;TZID=UTC:20251219T220000
DTSTAMP:20260421T004449
CREATED:20250624T164918Z
LAST-MODIFIED:20250624T164918Z
UID:6391-1766174400-1766181600@jenny-oag.co.uk
SUMMARY:The Fox & Pelican Hindhead
DESCRIPTION:
URL:https://jenny-oag.co.uk/event/the-fox-pelican-hindhead-4/
LOCATION:The Fox & Pelican\, Hindhead\, Headley Rd\, Grayshott\, Hindhead\, GU26 6LG
END:VEVENT
BEGIN:VEVENT
DTSTART;TZID=UTC:20251220T203000
DTEND;TZID=UTC:20251220T223000
DTSTAMP:20260421T004449
CREATED:20251109T183333Z
LAST-MODIFIED:20251109T183333Z
UID:6491-1766262600-1766269800@jenny-oag.co.uk
SUMMARY:The Stonehenge Inn
DESCRIPTION:
URL:https://jenny-oag.co.uk/event/the-stonehenge-inn/
LOCATION:The stonehenge inn 2 stonehenge Road Durrington Amesbury Wiltshire Sp4 8bn
END:VEVENT
BEGIN:VEVENT
DTSTART;TZID=UTC:20251221T163000
DTEND;TZID=UTC:20251221T193000
DTSTAMP:20260421T004449
CREATED:20251107T153308Z
LAST-MODIFIED:20251107T153308Z
UID:6488-1766334600-1766345400@jenny-oag.co.uk
SUMMARY:The Elmer Hotel
DESCRIPTION:
URL:https://jenny-oag.co.uk/event/the-elmer-hotel/
LOCATION:The Elmer Hotel\, 89 Elmer Road\, Middleton-on-Sea\, Bognor Regis\, West Sussex\, PO22 6HD
END:VEVENT
BEGIN:VEVENT
DTSTART;TZID=UTC:20251224T190000
DTEND;TZID=UTC:20251224T210000
DTSTAMP:20260421T004449
CREATED:20241026T223758Z
LAST-MODIFIED:20241026T223758Z
UID:6042-1766602800-1766610000@jenny-oag.co.uk
SUMMARY:The Roebuck Winchester
DESCRIPTION:
URL:https://jenny-oag.co.uk/event/the-roebuck-winchester-5/
LOCATION:The Roebuck\, 57 Stockbridge Rd\, Winchester SO22 6RP
END:VEVENT
BEGIN:VEVENT
DTSTART;TZID=UTC:20251226T190000
DTEND;TZID=UTC:20251226T210000
DTSTAMP:20260421T004449
CREATED:20250427T105555Z
LAST-MODIFIED:20250825T130322Z
UID:6332-1766775600-1766782800@jenny-oag.co.uk
SUMMARY:Bulford Working Men’s Club
DESCRIPTION:
URL:https://jenny-oag.co.uk/event/bulford-working-mens-club-4/
LOCATION:Bulford Working Mens Club\, 31 High St\, Bulford\, Salisbury\, SP4 9DR
END:VEVENT
BEGIN:VEVENT
DTSTART;TZID=UTC:20251227T080000
DTEND;TZID=UTC:20251227T220000
DTSTAMP:20260421T004449
CREATED:20250905T115716Z
LAST-MODIFIED:20250905T115716Z
UID:6432-1766822400-1766872800@jenny-oag.co.uk
SUMMARY:The Grenadier Hove
DESCRIPTION:
URL:https://jenny-oag.co.uk/event/the-grenadier-hove-2/
LOCATION:The Grenadier\, 200 Hangleton Road\, Brighton and Hove\, Hove\, East Sussex\, BN3 7LT
END:VEVENT
BEGIN:VEVENT
DTSTART;TZID=UTC:20251228T173000
DTEND;TZID=UTC:20251228T193000
DTSTAMP:20260421T004449
CREATED:20250423T123037Z
LAST-MODIFIED:20250423T123037Z
UID:6330-1766943000-1766950200@jenny-oag.co.uk
SUMMARY:The Anchor Inn
DESCRIPTION:
URL:https://jenny-oag.co.uk/event/the-anchor-inn-6/
LOCATION:The Anchor\, 46 High Street\, Storrington\, RH20 4DU
END:VEVENT
BEGIN:VEVENT
DTSTART;TZID=UTC:20251230T203000
DTEND;TZID=UTC:20251230T223000
DTSTAMP:20260421T004449
CREATED:20251118T143527Z
LAST-MODIFIED:20251118T143924Z
UID:6510-1767126600-1767133800@jenny-oag.co.uk
SUMMARY:Hotel Collingwood
DESCRIPTION:
URL:https://jenny-oag.co.uk/event/hotel-collingwood-2/
LOCATION:Hotel Collingwood\, 11 Priory Rd\, Bournemouth BH2 5DF
END:VEVENT
BEGIN:VEVENT
DTSTART;TZID=UTC:20251231T210000
DTEND;TZID=UTC:20260101T210000
DTSTAMP:20260421T004449
CREATED:20241008T153728Z
LAST-MODIFIED:20241008T153728Z
UID:6020-1767214800-1767301200@jenny-oag.co.uk
SUMMARY:Swanage Con Club
DESCRIPTION:
URL:https://jenny-oag.co.uk/event/swanage-con-club-8/
LOCATION:Swanage Con Club 27 Kings Rd W\, Swanage BH19 1HE
END:VEVENT
BEGIN:VEVENT
DTSTART;TZID=UTC:20260101T200000
DTEND;TZID=UTC:20260101T230000
DTSTAMP:20260421T004449
CREATED:20250909T200448Z
LAST-MODIFIED:20250909T200448Z
UID:6451-1767297600-1767308400@jenny-oag.co.uk
SUMMARY:Royal Bath Hotel
DESCRIPTION:
URL:https://jenny-oag.co.uk/event/royal-bath-hotel-46/
LOCATION:Royal Bath Hotel Bournemouth
END:VEVENT
BEGIN:VEVENT
DTSTART;TZID=UTC:20260103T210000
DTEND;TZID=UTC:20260103T230000
DTSTAMP:20260421T004449
CREATED:20251124T093824Z
LAST-MODIFIED:20251124T093824Z
UID:6513-1767474000-1767481200@jenny-oag.co.uk
SUMMARY:Seal Bay Holiday Park
DESCRIPTION:
URL:https://jenny-oag.co.uk/event/seal-bay-holiday-park-2/
LOCATION:Seal Bay Holiday Park\, Warners Lane\, Selsey\, PO20 9EL\, United Kingdom
END:VEVENT
END:VCALENDAR