BEGIN:VCALENDAR
VERSION:2.0
PRODID:-//The Music of Jenny Oag - ECPv5.1.4//NONSGML v1.0//EN
CALSCALE:GREGORIAN
METHOD:PUBLISH
X-WR-CALNAME:The Music of Jenny Oag
X-ORIGINAL-URL:https://jenny-oag.co.uk
X-WR-CALDESC:Events for The Music of Jenny Oag
BEGIN:VTIMEZONE
TZID:UTC
BEGIN:STANDARD
TZOFFSETFROM:+0000
TZOFFSETTO:+0000
TZNAME:UTC
DTSTART:20260101T000000
END:STANDARD
END:VTIMEZONE
BEGIN:VEVENT
DTSTART;TZID=UTC:20260131T200000
DTEND;TZID=UTC:20260131T220000
DTSTAMP:20260420T205419
CREATED:20251209T193005Z
LAST-MODIFIED:20251209T193005Z
UID:6517-1769889600-1769896800@jenny-oag.co.uk
SUMMARY:Hoburne Bashley Holiday Park
DESCRIPTION:
URL:https://jenny-oag.co.uk/event/hoburne-bashley-holiday-park-3/
END:VEVENT
BEGIN:VEVENT
DTSTART;TZID=UTC:20260206T203000
DTEND;TZID=UTC:20260206T223000
DTSTAMP:20260420T205419
CREATED:20260127T145747Z
LAST-MODIFIED:20260127T145747Z
UID:6630-1770409800-1770417000@jenny-oag.co.uk
SUMMARY:The King’s Head Thatcham
DESCRIPTION:
URL:https://jenny-oag.co.uk/event/the-kings-head-thatcham/
LOCATION:The Kings Head 59 The Broadway\, Thatcham RG19 3HP
END:VEVENT
BEGIN:VEVENT
DTSTART;TZID=UTC:20260207T193000
DTEND;TZID=UTC:20260207T213000
DTSTAMP:20260420T205419
CREATED:20250620T221558Z
LAST-MODIFIED:20250620T221558Z
UID:6377-1770492600-1770499800@jenny-oag.co.uk
SUMMARY:Aroma Kitchen & Bar | Ferndown
DESCRIPTION:
URL:https://jenny-oag.co.uk/event/aroma-kitchen-bar-ferndown-3/
LOCATION:Aroma Kitchen & Bar Ferndown  94 Victoria Road bh22 9ja
END:VEVENT
BEGIN:VEVENT
DTSTART;TZID=UTC:20260208T140000
DTEND;TZID=UTC:20260208T170000
DTSTAMP:20260420T205419
CREATED:20250907T192355Z
LAST-MODIFIED:20250907T192355Z
UID:6437-1770559200-1770570000@jenny-oag.co.uk
SUMMARY:Alderney Manor Social Club
DESCRIPTION:
URL:https://jenny-oag.co.uk/event/alderney-manor-social-club-6/
LOCATION:Alderney Manor Social Club 287 Herbert Avenue Poole BH12 4HT
END:VEVENT
BEGIN:VEVENT
DTSTART;VALUE=DATE:20260213
DTEND;VALUE=DATE:20260214
DTSTAMP:20260420T205419
CREATED:20260112T224859Z
LAST-MODIFIED:20260112T224859Z
UID:6554-1770940800-1771027199@jenny-oag.co.uk
SUMMARY:Court Royal Hotel - Private Event
DESCRIPTION:
URL:https://jenny-oag.co.uk/event/court-royal-hotel-private-event-35/
END:VEVENT
BEGIN:VEVENT
DTSTART;TZID=UTC:20260214T200000
DTEND;TZID=UTC:20260214T220000
DTSTAMP:20260420T205419
CREATED:20251115T002537Z
LAST-MODIFIED:20251115T002537Z
UID:6497-1771099200-1771106400@jenny-oag.co.uk
SUMMARY:Bournemouth East Con Club
DESCRIPTION:
URL:https://jenny-oag.co.uk/event/bournemouth-east-con-club-5/
LOCATION:Bournemouth East Con Club 317 Holdenhurst Rd\, Boscombe\, Bournemouth BH8 8BX
END:VEVENT
BEGIN:VEVENT
DTSTART;TZID=UTC:20260220T200000
DTEND;TZID=UTC:20260220T220000
DTSTAMP:20260420T205419
CREATED:20260120T171126Z
LAST-MODIFIED:20260120T171126Z
UID:6609-1771617600-1771624800@jenny-oag.co.uk
SUMMARY:Anchor & Hope Salisbury
DESCRIPTION:
URL:https://jenny-oag.co.uk/event/anchor-hope-salisbury-4/
LOCATION:Anchor & Hope 59-61 Winchester Street Salisbury SP1 1HL
END:VEVENT
BEGIN:VEVENT
DTSTART;TZID=UTC:20260221T200000
DTEND;TZID=UTC:20260221T220000
DTSTAMP:20260420T205419
CREATED:20251013T141032Z
LAST-MODIFIED:20251013T141032Z
UID:6472-1771704000-1771711200@jenny-oag.co.uk
SUMMARY:Wheatsheaf New Milton
DESCRIPTION:
URL:https://jenny-oag.co.uk/event/wheatsheaf-new-milton/
LOCATION:the Wheatshef Pub\, Christchurch Rd\, New Milton\, BH25 6QJ
END:VEVENT
BEGIN:VEVENT
DTSTART;TZID=UTC:20260227T190000
DTEND;TZID=UTC:20260227T210000
DTSTAMP:20260420T205419
CREATED:20260127T205848Z
LAST-MODIFIED:20260127T205848Z
UID:6637-1772218800-1772226000@jenny-oag.co.uk
SUMMARY:The Plough Inn \,New Milton
DESCRIPTION:
URL:https://jenny-oag.co.uk/event/the-plough-inn-new-milton/
LOCATION:The Plough Inn\, New Milton\, United Kingdom\, SO41 6FQ
END:VEVENT
BEGIN:VEVENT
DTSTART;TZID=UTC:20260228T200000
DTEND;TZID=UTC:20260228T230000
DTSTAMP:20260420T205419
CREATED:20251222T135653Z
LAST-MODIFIED:20251222T135653Z
UID:6528-1772308800-1772319600@jenny-oag.co.uk
SUMMARY:6 Barrels
DESCRIPTION:
URL:https://jenny-oag.co.uk/event/6-barrels-7/
LOCATION:6 Barrels 31 Salisbury Rd\, Totton\, Southampton SO40 3HX
END:VEVENT
END:VCALENDAR