BEGIN:VCALENDAR
VERSION:2.0
PRODID:-//The Music of Jenny Oag - ECPv5.1.4//NONSGML v1.0//EN
CALSCALE:GREGORIAN
METHOD:PUBLISH
X-WR-CALNAME:The Music of Jenny Oag
X-ORIGINAL-URL:https://jenny-oag.co.uk
X-WR-CALDESC:Events for The Music of Jenny Oag
BEGIN:VTIMEZONE
TZID:UTC
BEGIN:STANDARD
TZOFFSETFROM:+0000
TZOFFSETTO:+0000
TZNAME:UTC
DTSTART:20260101T000000
END:STANDARD
END:VTIMEZONE
BEGIN:VEVENT
DTSTART;TZID=UTC:20260227T190000
DTEND;TZID=UTC:20260227T210000
DTSTAMP:20260420T190109
CREATED:20260127T205848Z
LAST-MODIFIED:20260127T205848Z
UID:6637-1772218800-1772226000@jenny-oag.co.uk
SUMMARY:The Plough Inn \,New Milton
DESCRIPTION:
URL:https://jenny-oag.co.uk/event/the-plough-inn-new-milton/
LOCATION:The Plough Inn\, New Milton\, United Kingdom\, SO41 6FQ
END:VEVENT
BEGIN:VEVENT
DTSTART;TZID=UTC:20260228T200000
DTEND;TZID=UTC:20260228T230000
DTSTAMP:20260420T190109
CREATED:20251222T135653Z
LAST-MODIFIED:20251222T135653Z
UID:6528-1772308800-1772319600@jenny-oag.co.uk
SUMMARY:6 Barrels
DESCRIPTION:
URL:https://jenny-oag.co.uk/event/6-barrels-7/
LOCATION:6 Barrels 31 Salisbury Rd\, Totton\, Southampton SO40 3HX
END:VEVENT
BEGIN:VEVENT
DTSTART;TZID=UTC:20260304T200000
DTEND;TZID=UTC:20260304T220000
DTSTAMP:20260420T190109
CREATED:20260219T151115Z
LAST-MODIFIED:20260219T151115Z
UID:6684-1772654400-1772661600@jenny-oag.co.uk
SUMMARY:Carrington Hotel
DESCRIPTION:
URL:https://jenny-oag.co.uk/event/carrington-hotel-62/
LOCATION:Carrington House Hotel\, Knyveton Road\, Bournemouth\, BH1 3QQ\, United Kingdom
END:VEVENT
BEGIN:VEVENT
DTSTART;TZID=UTC:20260307T200000
DTEND;TZID=UTC:20260307T220000
DTSTAMP:20260420T190109
CREATED:20260110T184350Z
LAST-MODIFIED:20260110T184350Z
UID:6548-1772913600-1772920800@jenny-oag.co.uk
SUMMARY:The Grenadier Hove
DESCRIPTION:
URL:https://jenny-oag.co.uk/event/the-grenadier-hove-3/
LOCATION:The Grenadier\, 200 Hangleton Road\, Brighton and Hove\, Hove\, East Sussex\, BN3 7LT
END:VEVENT
BEGIN:VEVENT
DTSTART;TZID=UTC:20260312T200000
DTEND;TZID=UTC:20260312T220000
DTSTAMP:20260420T190109
CREATED:20260207T144631Z
LAST-MODIFIED:20260207T144631Z
UID:6648-1773345600-1773352800@jenny-oag.co.uk
SUMMARY:Royal Bath Hotel
DESCRIPTION:
URL:https://jenny-oag.co.uk/event/royal-bath-hotel-55/
LOCATION:Royal Bath Hotel Bournemouth
END:VEVENT
BEGIN:VEVENT
DTSTART;TZID=UTC:20260313T203000
DTEND;TZID=UTC:20260313T223000
DTSTAMP:20260420T190109
CREATED:20260127T145819Z
LAST-MODIFIED:20260127T145819Z
UID:6632-1773433800-1773441000@jenny-oag.co.uk
SUMMARY:The King’s Head Thatcham
DESCRIPTION:
URL:https://jenny-oag.co.uk/event/the-kings-head-thatcham-2/
LOCATION:The Kings Head 59 The Broadway\, Thatcham RG19 3HP
END:VEVENT
BEGIN:VEVENT
DTSTART;TZID=UTC:20260314T200000
DTEND;TZID=UTC:20260314T233000
DTSTAMP:20260420T190109
CREATED:20260129T173154Z
LAST-MODIFIED:20260129T173154Z
UID:6640-1773518400-1773531000@jenny-oag.co.uk
SUMMARY:The Brass Monkey
DESCRIPTION:
URL:https://jenny-oag.co.uk/event/the-brass-monkey-2/
LOCATION:The Brass Monkey\, 358 Shirley Road\, Shirley\, Southampton\, Hampshire\, SO15 3HY
END:VEVENT
BEGIN:VEVENT
DTSTART;TZID=UTC:20260315T130000
DTEND;TZID=UTC:20260315T150000
DTSTAMP:20260420T190109
CREATED:20260108T093924Z
LAST-MODIFIED:20260108T093924Z
UID:6545-1773579600-1773586800@jenny-oag.co.uk
SUMMARY:AFC TOTTON
DESCRIPTION:
URL:https://jenny-oag.co.uk/event/afc-totton/
LOCATION:THE SNOWS STADIUM SALISBURY RD TOTTON SOUTHAMPTON SO40 2RW
END:VEVENT
BEGIN:VEVENT
DTSTART;TZID=UTC:20260320T210000
DTEND;TZID=UTC:20260320T230000
DTSTAMP:20260420T190109
CREATED:20260221T001003Z
LAST-MODIFIED:20260221T001003Z
UID:6707-1774040400-1774047600@jenny-oag.co.uk
SUMMARY:Anchor & Hope Salisbury
DESCRIPTION:
URL:https://jenny-oag.co.uk/event/anchor-hope-salisbury-5/
LOCATION:Anchor & Hope 59-61 Winchester Street Salisbury SP1 1HL
END:VEVENT
BEGIN:VEVENT
DTSTART;TZID=UTC:20260327T200000
DTEND;TZID=UTC:20260327T220000
DTSTAMP:20260420T190109
CREATED:20260209T111859Z
LAST-MODIFIED:20260209T111859Z
UID:6675-1774641600-1774648800@jenny-oag.co.uk
SUMMARY:The Gloster Farnborough ( 90s Night)
DESCRIPTION:
URL:https://jenny-oag.co.uk/event/the-gloster-farnborough-90s-night/
LOCATION:The Gloster O Gorman Ave\, Farnborough GU14 7DL
END:VEVENT
BEGIN:VEVENT
DTSTART;VALUE=DATE:20260329
DTEND;VALUE=DATE:20260330
DTSTAMP:20260420T190109
CREATED:20260112T224931Z
LAST-MODIFIED:20260112T224931Z
UID:6556-1774742400-1774828799@jenny-oag.co.uk
SUMMARY:Court Royal Hotel - Private Event
DESCRIPTION:
URL:https://jenny-oag.co.uk/event/court-royal-hotel-private-event-36/
END:VEVENT
BEGIN:VEVENT
DTSTART;TZID=UTC:20260330T200000
DTEND;TZID=UTC:20260330T220000
DTSTAMP:20260420T190109
CREATED:20260207T144705Z
LAST-MODIFIED:20260207T144705Z
UID:6650-1774900800-1774908000@jenny-oag.co.uk
SUMMARY:Royal Bath Hotel
DESCRIPTION:
URL:https://jenny-oag.co.uk/event/royal-bath-hotel-56/
LOCATION:Royal Bath Hotel Bournemouth
END:VEVENT
BEGIN:VEVENT
DTSTART;TZID=UTC:20260402T180000
DTEND;TZID=UTC:20260402T200000
DTSTAMP:20260420T190109
CREATED:20260326T120641Z
LAST-MODIFIED:20260326T120641Z
UID:6727-1775152800-1775160000@jenny-oag.co.uk
SUMMARY:Cherry Tree Flackwell Heath
DESCRIPTION:
URL:https://jenny-oag.co.uk/event/cherry-tree-flackwell-heath/
LOCATION:5 Straight Bit\, Flackwell Heath\, High Wycombe HP10 9LS
END:VEVENT
BEGIN:VEVENT
DTSTART;TZID=UTC:20260403T200000
DTEND;TZID=UTC:20260403T220000
DTSTAMP:20260420T190109
CREATED:20260219T151137Z
LAST-MODIFIED:20260326T120750Z
UID:6686-1775246400-1775253600@jenny-oag.co.uk
SUMMARY:Carrington Hotel
DESCRIPTION:
URL:https://jenny-oag.co.uk/event/carrington-hotel-63/
LOCATION:Carrington House Hotel\, Knyveton Road\, Bournemouth\, BH1 3QQ\, United Kingdom
END:VEVENT
BEGIN:VEVENT
DTSTART;TZID=UTC:20260404T193000
DTEND;TZID=UTC:20260404T213000
DTSTAMP:20260420T190109
CREATED:20250620T221709Z
LAST-MODIFIED:20250620T221709Z
UID:6379-1775331000-1775338200@jenny-oag.co.uk
SUMMARY:Aroma Kitchen & Bar | Ferndown
DESCRIPTION:
URL:https://jenny-oag.co.uk/event/aroma-kitchen-bar-ferndown-4/
LOCATION:Aroma Kitchen & Bar Ferndown  94 Victoria Road bh22 9ja
END:VEVENT
END:VCALENDAR