BEGIN:VCALENDAR
VERSION:2.0
PRODID:-//The Music of Jenny Oag - ECPv5.1.4//NONSGML v1.0//EN
CALSCALE:GREGORIAN
METHOD:PUBLISH
X-WR-CALNAME:The Music of Jenny Oag
X-ORIGINAL-URL:https://jenny-oag.co.uk
X-WR-CALDESC:Events for The Music of Jenny Oag
BEGIN:VTIMEZONE
TZID:UTC
BEGIN:STANDARD
TZOFFSETFROM:+0000
TZOFFSETTO:+0000
TZNAME:UTC
DTSTART:20260101T000000
END:STANDARD
END:VTIMEZONE
BEGIN:VEVENT
DTSTART;VALUE=DATE:20260430
DTEND;VALUE=DATE:20260501
DTSTAMP:20260420T190110
CREATED:20260221T000409Z
LAST-MODIFIED:20260221T000409Z
UID:6691-1777507200-1777593599@jenny-oag.co.uk
SUMMARY:Burnham on Sea Haven Holidays
DESCRIPTION:
URL:https://jenny-oag.co.uk/event/burnham-on-sea-haven-holidays-3/
LOCATION:South Rd\, Brean\, Burnham-on-Sea TA8 2RF
END:VEVENT
BEGIN:VEVENT
DTSTART;VALUE=DATE:20260501
DTEND;VALUE=DATE:20260502
DTSTAMP:20260420T190110
CREATED:20260112T224953Z
LAST-MODIFIED:20260112T224953Z
UID:6558-1777593600-1777679999@jenny-oag.co.uk
SUMMARY:Court Royal Hotel - Private Event
DESCRIPTION:
URL:https://jenny-oag.co.uk/event/court-royal-hotel-private-event-37/
END:VEVENT
BEGIN:VEVENT
DTSTART;TZID=UTC:20260502T203000
DTEND;TZID=UTC:20260502T233000
DTSTAMP:20260420T190110
CREATED:20250616T132725Z
LAST-MODIFIED:20250616T132725Z
UID:6363-1777753800-1777764600@jenny-oag.co.uk
SUMMARY:Riverside Social Club
DESCRIPTION:
URL:https://jenny-oag.co.uk/event/riverside-social-club/
LOCATION:Riverside Club Legion Hall\, St Mary St\, High Wycombe HP11 2HE
END:VEVENT
BEGIN:VEVENT
DTSTART;TZID=UTC:20260504T140000
DTEND;TZID=UTC:20260504T160000
DTSTAMP:20260420T190110
CREATED:20260202T203427Z
LAST-MODIFIED:20260202T203427Z
UID:6644-1777903200-1777910400@jenny-oag.co.uk
SUMMARY:Drusilla’s Inn
DESCRIPTION:
URL:https://jenny-oag.co.uk/event/drusillas-inn/
LOCATION:Drusillas Inn Wigbeth\, Wimborne BH21 7JH
END:VEVENT
BEGIN:VEVENT
DTSTART;VALUE=DATE:20260508
DTEND;VALUE=DATE:20260509
DTSTAMP:20260420T190110
CREATED:20260112T225013Z
LAST-MODIFIED:20260112T225013Z
UID:6560-1778198400-1778284799@jenny-oag.co.uk
SUMMARY:Court Royal Hotel - Private Event
DESCRIPTION:
URL:https://jenny-oag.co.uk/event/court-royal-hotel-private-event-38/
END:VEVENT
BEGIN:VEVENT
DTSTART;TZID=UTC:20260509T193000
DTEND;TZID=UTC:20260509T213000
DTSTAMP:20260420T190110
CREATED:20250620T221742Z
LAST-MODIFIED:20250620T221742Z
UID:6381-1778355000-1778362200@jenny-oag.co.uk
SUMMARY:Aroma Kitchen & Bar | Ferndown
DESCRIPTION:
URL:https://jenny-oag.co.uk/event/aroma-kitchen-bar-ferndown-5/
LOCATION:Aroma Kitchen & Bar Ferndown  94 Victoria Road bh22 9ja
END:VEVENT
BEGIN:VEVENT
DTSTART;VALUE=DATE:20260515
DTEND;VALUE=DATE:20260516
DTSTAMP:20260420T190110
CREATED:20260112T225034Z
LAST-MODIFIED:20260112T225034Z
UID:6562-1778803200-1778889599@jenny-oag.co.uk
SUMMARY:Court Royal Hotel - Private Event
DESCRIPTION:
URL:https://jenny-oag.co.uk/event/court-royal-hotel-private-event-39/
END:VEVENT
BEGIN:VEVENT
DTSTART;TZID=UTC:20260516T140000
DTEND;TZID=UTC:20260516T170000
DTSTAMP:20260420T190110
CREATED:20250907T192426Z
LAST-MODIFIED:20250907T192426Z
UID:6439-1778940000-1778950800@jenny-oag.co.uk
SUMMARY:Alderney Manor Social Club
DESCRIPTION:
URL:https://jenny-oag.co.uk/event/alderney-manor-social-club-7/
LOCATION:Alderney Manor Social Club 287 Herbert Avenue Poole BH12 4HT
END:VEVENT
BEGIN:VEVENT
DTSTART;TZID=UTC:20260521T203000
DTEND;TZID=UTC:20260521T223000
DTSTAMP:20260420T190110
CREATED:20260215T182114Z
LAST-MODIFIED:20260215T182114Z
UID:6681-1779395400-1779402600@jenny-oag.co.uk
SUMMARY:The Bricklayers Poole
DESCRIPTION:
URL:https://jenny-oag.co.uk/event/the-bricklayers-poole/
LOCATION:The Bricklayers 41 Parr St\, Poole BH14 0JX
END:VEVENT
BEGIN:VEVENT
DTSTART;VALUE=DATE:20260522
DTEND;VALUE=DATE:20260523
DTSTAMP:20260420T190110
CREATED:20260112T225055Z
LAST-MODIFIED:20260112T225055Z
UID:6565-1779408000-1779494399@jenny-oag.co.uk
SUMMARY:Court Royal Hotel - Private Event
DESCRIPTION:
URL:https://jenny-oag.co.uk/event/court-royal-hotel-private-event-40/
END:VEVENT
BEGIN:VEVENT
DTSTART;VALUE=DATE:20260523
DTEND;VALUE=DATE:20260524
DTSTAMP:20260420T190110
CREATED:20250905T120235Z
LAST-MODIFIED:20250905T120235Z
UID:6434-1779494400-1779580799@jenny-oag.co.uk
SUMMARY:Private Event
DESCRIPTION:
URL:https://jenny-oag.co.uk/event/private-event-22/
END:VEVENT
BEGIN:VEVENT
DTSTART;TZID=UTC:20260524T140000
DTEND;TZID=UTC:20260524T170000
DTSTAMP:20260420T190110
CREATED:20260331T134418Z
LAST-MODIFIED:20260331T134418Z
UID:6735-1779631200-1779642000@jenny-oag.co.uk
SUMMARY:Guildford Jubilee Social Club
DESCRIPTION:
URL:https://jenny-oag.co.uk/event/guildford-jubilee-social-club-4/
LOCATION:Guildford Jubilee Social Club Stocton Cl\, Guildford GU1 1HR
END:VEVENT
BEGIN:VEVENT
DTSTART;VALUE=DATE:20260529
DTEND;VALUE=DATE:20260530
DTSTAMP:20260420T190110
CREATED:20260112T225120Z
LAST-MODIFIED:20260112T225120Z
UID:6567-1780012800-1780099199@jenny-oag.co.uk
SUMMARY:Court Royal Hotel - Private Event
DESCRIPTION:
URL:https://jenny-oag.co.uk/event/court-royal-hotel-private-event-41/
END:VEVENT
END:VCALENDAR